Package: Rgraphviz Version: 2.46.0 Command: /home/biocbuild/bbs-3.18-bioc/R/bin/R CMD INSTALL Rgraphviz StartedAt: 2024-04-15 15:08:08 -0400 (Mon, 15 Apr 2024) EndedAt: 2024-04-15 15:09:30 -0400 (Mon, 15 Apr 2024) EllapsedTime: 82.5 seconds RetCode: 0 Status: OK