Package: RiboCrypt Version: 1.8.0 Command: /Library/Frameworks/R.framework/Resources/bin/R CMD build --keep-empty-dirs --no-resave-data RiboCrypt StartedAt: 2024-04-15 21:17:57 -0400 (Mon, 15 Apr 2024) EndedAt: 2024-04-15 21:20:47 -0400 (Mon, 15 Apr 2024) EllapsedTime: 169.9 seconds RetCode: 0 Status: OK PackageFile: RiboCrypt_1.8.0.tar.gz PackageFileSize: 5.657 MiB