Package: RolDE Version: 1.6.0 Command: /Library/Frameworks/R.framework/Resources/bin/R CMD INSTALL RolDE StartedAt: 2024-04-15 15:38:17 -0400 (Mon, 15 Apr 2024) EndedAt: 2024-04-15 15:39:03 -0400 (Mon, 15 Apr 2024) EllapsedTime: 46.1 seconds RetCode: 0 Status: OK