Package: RolDE Version: 1.6.0 Command: chmod a+r RolDE -R && F:\biocbuild\bbs-3.18-bioc\R\bin\R.exe CMD build --keep-empty-dirs --no-resave-data RolDE StartedAt: 2024-04-15 20:48:00 -0400 (Mon, 15 Apr 2024) EndedAt: 2024-04-15 20:48:39 -0400 (Mon, 15 Apr 2024) EllapsedTime: 39.4 seconds RetCode: 0 Status: OK PackageFile: RolDE_1.6.0.tar.gz PackageFileSize: 1.238 MiB