Package: Rqc
Version: 1.36.0
Command: /Library/Frameworks/R.framework/Resources/bin/R CMD INSTALL Rqc
StartedAt: 2024-04-15 15:52:07 -0400 (Mon, 15 Apr 2024)
EndedAt: 2024-04-15 15:54:13 -0400 (Mon, 15 Apr 2024)
EllapsedTime: 125.9 seconds
RetCode: 0
Status: OK