Package: Rtreemix Version: 1.64.0 Command: rm -rf Rtreemix.buildbin-libdir && mkdir Rtreemix.buildbin-libdir && /Users/biocbuild/BBS/utils/build-universal.sh Rtreemix_1.64.0.tar.gz /Library/Frameworks/R.framework/Resources/bin/R Rtreemix.buildbin-libdir StartedAt: 2024-03-04 01:01:46 -0500 (Mon, 04 Mar 2024) EndedAt: 2024-03-04 01:03:01 -0500 (Mon, 04 Mar 2024) EllapsedTime: 74.9 seconds RetCode: 0 Status: OK PackageFile: Rtreemix_1.64.0.tgz PackageFileSize: 1.023 MiB