Package: Rtreemix Version: 1.64.0 Command: /Library/Frameworks/R.framework/Resources/bin/R CMD check --install=check:Rtreemix.install-out.txt --library=/Library/Frameworks/R.framework/Resources/library --no-vignettes --timings Rtreemix_1.64.0.tar.gz StartedAt: 2024-04-16 08:12:48 -0400 (Tue, 16 Apr 2024) EndedAt: 2024-04-16 08:14:48 -0400 (Tue, 16 Apr 2024) EllapsedTime: 120.1 seconds RetCode: 0 Status: WARNINGS CheckDir: Rtreemix.Rcheck Warnings: 1