Package: Rtreemix Version: 1.64.0 Command: chmod a+r Rtreemix -R && F:\biocbuild\bbs-3.18-bioc\R\bin\R.exe CMD build --keep-empty-dirs --no-resave-data Rtreemix StartedAt: 2024-04-15 20:50:42 -0400 (Mon, 15 Apr 2024) EndedAt: 2024-04-15 20:51:49 -0400 (Mon, 15 Apr 2024) EllapsedTime: 67.1 seconds RetCode: 0 Status: OK PackageFile: Rtreemix_1.64.0.tar.gz PackageFileSize: 677.5 KiB