Package: Rvisdiff
Version: 1.0.0
Command: F:\biocbuild\bbs-3.18-bioc\R\bin\R.exe CMD check --no-multiarch --install=check:Rvisdiff.install-out.txt --library=F:\biocbuild\bbs-3.18-bioc\R\library --no-vignettes --timings Rvisdiff_1.0.0.tar.gz
StartedAt: 2024-04-16 04:39:41 -0400 (Tue, 16 Apr 2024)
EndedAt: 2024-04-16 04:42:39 -0400 (Tue, 16 Apr 2024)
EllapsedTime: 178.3 seconds
RetCode: 0
Status: OK
CheckDir: Rvisdiff.Rcheck
Warnings: 0