Package: SAIGEgds Version: 2.2.0 Command: /home/biocbuild/R/R-4.3.1/bin/R CMD INSTALL SAIGEgds StartedAt: 2023-11-01 20:11:32 -0000 (Wed, 01 Nov 2023) EndedAt: 2023-11-01 20:13:18 -0000 (Wed, 01 Nov 2023) EllapsedTime: 106.5 seconds RetCode: 0 Status: OK