Package: SAIGEgds Version: 2.2.1 Command: /Library/Frameworks/R.framework/Resources/bin/R CMD check --install=check:SAIGEgds.install-out.txt --library=/Library/Frameworks/R.framework/Resources/library --no-vignettes --timings SAIGEgds_2.2.1.tar.gz StartedAt: 2024-03-03 23:11:26 -0500 (Sun, 03 Mar 2024) EndedAt: 2024-03-03 23:14:27 -0500 (Sun, 03 Mar 2024) EllapsedTime: 181.7 seconds RetCode: 0 Status: OK CheckDir: SAIGEgds.Rcheck Warnings: 0