Package: SAIGEgds Version: 2.2.1 Command: /Library/Frameworks/R.framework/Resources/bin/R CMD INSTALL SAIGEgds StartedAt: 2024-04-15 15:13:36 -0400 (Mon, 15 Apr 2024) EndedAt: 2024-04-15 15:15:20 -0400 (Mon, 15 Apr 2024) EllapsedTime: 103.3 seconds RetCode: 0 Status: OK