Package: SAIGEgds Version: 2.2.1 Command: /home/biocbuild/bbs-3.18-bioc/R/bin/R CMD check --install=check:SAIGEgds.install-out.txt --library=/home/biocbuild/bbs-3.18-bioc/R/site-library --timings SAIGEgds_2.2.1.tar.gz StartedAt: 2024-04-16 03:22:16 -0400 (Tue, 16 Apr 2024) EndedAt: 2024-04-16 03:25:08 -0400 (Tue, 16 Apr 2024) EllapsedTime: 171.2 seconds RetCode: 0 Status: OK CheckDir: SAIGEgds.Rcheck Warnings: 0