Package: SANTA Version: 2.38.0 Command: /Library/Frameworks/R.framework/Resources/bin/R CMD INSTALL SANTA StartedAt: 2024-03-03 15:05:20 -0500 (Sun, 03 Mar 2024) EndedAt: 2024-03-03 15:05:43 -0500 (Sun, 03 Mar 2024) EllapsedTime: 22.5 seconds RetCode: 0 Status: OK