Package: SANTA Version: 2.38.0 Command: rm -rf SANTA.buildbin-libdir && mkdir SANTA.buildbin-libdir && F:\biocbuild\bbs-3.18-bioc\R\bin\R.exe CMD INSTALL --build --library=SANTA.buildbin-libdir SANTA_2.38.0.tar.gz StartedAt: 2024-04-06 07:50:14 -0400 (Sat, 06 Apr 2024) EndedAt: 2024-04-06 07:50:26 -0400 (Sat, 06 Apr 2024) EllapsedTime: 11.9 seconds RetCode: 0 Status: OK PackageFile: SANTA_2.38.0.zip PackageFileSize: 4.142 MiB