Package: SBMLR Version: 1.98.0 Command: _R_CHECK_FORCE_SUGGESTS_=0 /Library/Frameworks/R.framework/Resources/bin/R CMD check --install=check:SBMLR.install-out.txt --library=/Library/Frameworks/R.framework/Resources/library --no-vignettes --timings SBMLR_1.98.0.tar.gz StartedAt: 2024-03-03 23:12:48 -0500 (Sun, 03 Mar 2024) EndedAt: 2024-03-03 23:13:31 -0500 (Sun, 03 Mar 2024) EllapsedTime: 43.2 seconds RetCode: 0 Status: OK CheckDir: SBMLR.Rcheck Warnings: 0