Package: SBMLR Version: 1.98.0 Command: /home/biocbuild/bbs-3.18-bioc/R/bin/R CMD build --keep-empty-dirs --no-resave-data SBMLR StartedAt: 2024-04-15 19:00:52 -0400 (Mon, 15 Apr 2024) EndedAt: 2024-04-15 19:01:01 -0400 (Mon, 15 Apr 2024) EllapsedTime: 9.0 seconds RetCode: 0 Status: OK PackageFile: SBMLR_1.98.0.tar.gz PackageFileSize: 178.1 KiB