Package: SBMLR Version: 1.98.0 Command: chmod a+r SBMLR -R && F:\biocbuild\bbs-3.18-bioc\R\bin\R.exe CMD build --keep-empty-dirs --no-resave-data SBMLR StartedAt: 2024-04-15 20:52:54 -0400 (Mon, 15 Apr 2024) EndedAt: 2024-04-15 20:53:08 -0400 (Mon, 15 Apr 2024) EllapsedTime: 14.2 seconds RetCode: 0 Status: OK PackageFile: SBMLR_1.98.0.tar.gz PackageFileSize: 179.2 KiB