Package: SCArray.sat Version: 1.2.1 Command: /Library/Frameworks/R.framework/Resources/bin/R CMD build --keep-empty-dirs --no-resave-data SCArray.sat StartedAt: 2024-04-15 21:35:30 -0400 (Mon, 15 Apr 2024) EndedAt: 2024-04-15 21:38:36 -0400 (Mon, 15 Apr 2024) EllapsedTime: 185.7 seconds RetCode: 0 Status: OK PackageFile: SCArray.sat_1.2.1.tar.gz PackageFileSize: 680.2 KiB