Package: SCArray.sat Version: 1.2.1 Command: /Library/Frameworks/R.framework/Resources/bin/R CMD check --install=check:SCArray.sat.install-out.txt --library=/Library/Frameworks/R.framework/Resources/library --no-vignettes --timings SCArray.sat_1.2.1.tar.gz StartedAt: 2024-04-16 08:21:51 -0400 (Tue, 16 Apr 2024) EndedAt: 2024-04-16 08:31:48 -0400 (Tue, 16 Apr 2024) EllapsedTime: 597.2 seconds RetCode: 0 Status: WARNINGS CheckDir: SCArray.sat.Rcheck Warnings: 1