Package: SCArray.sat Version: 1.2.1 Command: /Library/Frameworks/R.framework/Resources/bin/R CMD INSTALL SCArray.sat StartedAt: 2024-04-15 16:26:54 -0400 (Mon, 15 Apr 2024) EndedAt: 2024-04-15 16:28:22 -0400 (Mon, 15 Apr 2024) EllapsedTime: 87.6 seconds RetCode: 0 Status: OK