Package: SCArray.sat Version: 1.2.1 Command: chmod a+r SCArray.sat -R && F:\biocbuild\bbs-3.18-bioc\R\bin\R.exe CMD build --keep-empty-dirs --no-resave-data SCArray.sat StartedAt: 2024-04-15 20:53:47 -0400 (Mon, 15 Apr 2024) EndedAt: 2024-04-15 20:55:30 -0400 (Mon, 15 Apr 2024) EllapsedTime: 102.9 seconds RetCode: 0 Status: OK PackageFile: SCArray.sat_1.2.1.tar.gz PackageFileSize: 398.2 KiB