Package: SCBN
Version: 1.20.0
Maintainer: Yan Zhou
MaintainerEmail: 2160090406 at email.szu.edu.cn
git_url: https://git.bioconductor.org/packages/SCBN
git_branch: RELEASE_3_18
git_last_commit: 59e3bf8
git_last_commit_date: 2023-10-24 11:07:04 -0400 (Tue, 24 Oct 2023)