Package: SCBN Version: 1.20.0 Command: /Library/Frameworks/R.framework/Resources/bin/R CMD INSTALL SCBN StartedAt: 2024-03-03 15:03:45 -0500 (Sun, 03 Mar 2024) EndedAt: 2024-03-03 15:04:02 -0500 (Sun, 03 Mar 2024) EllapsedTime: 17.2 seconds RetCode: 0 Status: OK