Package: SCOPE Version: 1.14.0 Command: /home/biocbuild/R/R-4.3.1/bin/R CMD build --keep-empty-dirs --no-resave-data SCOPE StartedAt: 2023-11-02 05:49:33 -0000 (Thu, 02 Nov 2023) EndedAt: 2023-11-02 06:02:53 -0000 (Thu, 02 Nov 2023) EllapsedTime: 800.1 seconds RetCode: 0 Status: OK PackageFile: SCOPE_1.14.0.tar.gz PackageFileSize: 419.5 KiB