Package: SCOPE Version: 1.14.0 Command: /home/biocbuild/R/R-4.3.1/bin/R CMD check --install=check:SCOPE.install-out.txt --library=/home/biocbuild/R/R-4.3.1/site-library --no-vignettes --timings SCOPE_1.14.0.tar.gz StartedAt: 2023-11-02 14:10:53 -0000 (Thu, 02 Nov 2023) EndedAt: 2023-11-02 14:18:07 -0000 (Thu, 02 Nov 2023) EllapsedTime: 434.0 seconds RetCode: 0 Status: OK CheckDir: SCOPE.Rcheck Warnings: 0