Package: SCOPE Version: 1.14.0 Command: /home/biocbuild/R/R-4.3.1/bin/R CMD INSTALL SCOPE StartedAt: 2023-11-01 20:25:43 -0000 (Wed, 01 Nov 2023) EndedAt: 2023-11-01 20:26:31 -0000 (Wed, 01 Nov 2023) EllapsedTime: 47.7 seconds RetCode: 0 Status: OK