Package: SCOPE Version: 1.14.0 Command: /home/biocbuild/bbs-3.18-bioc/R/bin/R CMD check --install=check:SCOPE.install-out.txt --library=/home/biocbuild/bbs-3.18-bioc/R/site-library --timings SCOPE_1.14.0.tar.gz StartedAt: 2024-04-16 03:37:08 -0400 (Tue, 16 Apr 2024) EndedAt: 2024-04-16 03:58:59 -0400 (Tue, 16 Apr 2024) EllapsedTime: 1310.5 seconds RetCode: 0 Status: OK CheckDir: SCOPE.Rcheck Warnings: 0