Package: SCOPE Version: 1.14.0 Command: /home/biocbuild/bbs-3.18-bioc/R/bin/R CMD INSTALL SCOPE StartedAt: 2024-04-15 15:20:42 -0400 (Mon, 15 Apr 2024) EndedAt: 2024-04-15 15:21:17 -0400 (Mon, 15 Apr 2024) EllapsedTime: 35.0 seconds RetCode: 0 Status: OK