Package: SDAMS Version: 1.22.0 Command: /home/biocbuild/R/R-4.3.1/bin/R CMD check --install=check:SDAMS.install-out.txt --library=/home/biocbuild/R/R-4.3.1/site-library --no-vignettes --timings SDAMS_1.22.0.tar.gz StartedAt: 2023-11-02 14:14:22 -0000 (Thu, 02 Nov 2023) EndedAt: 2023-11-02 14:19:12 -0000 (Thu, 02 Nov 2023) EllapsedTime: 289.8 seconds RetCode: 0 Status: OK CheckDir: SDAMS.Rcheck Warnings: 0