Package: SEPIRA Version: 1.22.0 Command: /home/biocbuild/R/R-4.3.1/bin/R CMD build --keep-empty-dirs --no-resave-data SEPIRA StartedAt: 2023-11-02 06:01:24 -0000 (Thu, 02 Nov 2023) EndedAt: 2023-11-02 06:01:42 -0000 (Thu, 02 Nov 2023) EllapsedTime: 18.0 seconds RetCode: 0 Status: OK PackageFile: SEPIRA_1.22.0.tar.gz PackageFileSize: 5.082 MiB