Package: SEPIRA Version: 1.22.0 Command: rm -rf SEPIRA.buildbin-libdir && mkdir SEPIRA.buildbin-libdir && /Users/biocbuild/BBS/utils/build-universal.sh SEPIRA_1.22.0.tar.gz /Library/Frameworks/R.framework/Resources/bin/R SEPIRA.buildbin-libdir StartedAt: 2024-04-16 12:42:49 -0400 (Tue, 16 Apr 2024) EndedAt: 2024-04-16 12:42:56 -0400 (Tue, 16 Apr 2024) EllapsedTime: 7.8 seconds RetCode: 0 Status: OK PackageFile: SEPIRA_1.22.0.tgz PackageFileSize: 4.524 MiB