Package: SEPIRA Version: 1.22.0 Command: /Library/Frameworks/R.framework/Resources/bin/R CMD build --keep-empty-dirs --no-resave-data SEPIRA StartedAt: 2024-04-15 21:53:24 -0400 (Mon, 15 Apr 2024) EndedAt: 2024-04-15 21:53:51 -0400 (Mon, 15 Apr 2024) EllapsedTime: 27.3 seconds RetCode: 0 Status: OK PackageFile: SEPIRA_1.22.0.tar.gz PackageFileSize: 5.08 MiB