Package: SEPIRA Version: 1.22.0 Command: /home/biocbuild/bbs-3.18-bioc/R/bin/R CMD build --keep-empty-dirs --no-resave-data SEPIRA StartedAt: 2024-04-15 19:12:00 -0400 (Mon, 15 Apr 2024) EndedAt: 2024-04-15 19:12:10 -0400 (Mon, 15 Apr 2024) EllapsedTime: 10.3 seconds RetCode: 0 Status: OK PackageFile: SEPIRA_1.22.0.tar.gz PackageFileSize: 5.08 MiB