Package: SEPIRA Version: 1.22.0 Command: rm -rf SEPIRA.buildbin-libdir && mkdir SEPIRA.buildbin-libdir && F:\biocbuild\bbs-3.18-bioc\R\bin\R.exe CMD INSTALL --build --library=SEPIRA.buildbin-libdir SEPIRA_1.22.0.tar.gz StartedAt: 2024-04-16 07:40:22 -0400 (Tue, 16 Apr 2024) EndedAt: 2024-04-16 07:40:29 -0400 (Tue, 16 Apr 2024) EllapsedTime: 6.8 seconds RetCode: 0 Status: OK PackageFile: SEPIRA_1.22.0.zip PackageFileSize: 4.525 MiB