Package: SGSeq Version: 1.36.0 Command: rm -rf SGSeq.buildbin-libdir && mkdir SGSeq.buildbin-libdir && /Users/biocbuild/BBS/utils/build-universal.sh SGSeq_1.36.0.tar.gz /Library/Frameworks/R.framework/Resources/bin/R SGSeq.buildbin-libdir StartedAt: 2024-03-04 01:04:36 -0500 (Mon, 04 Mar 2024) EndedAt: 2024-03-04 01:05:42 -0500 (Mon, 04 Mar 2024) EllapsedTime: 65.8 seconds RetCode: 0 Status: OK PackageFile: SGSeq_1.36.0.tgz PackageFileSize: 1.747 MiB