Package: SGSeq Version: 1.36.0 Command: rm -rf SGSeq.buildbin-libdir && mkdir SGSeq.buildbin-libdir && F:\biocbuild\bbs-3.18-bioc\R\bin\R.exe CMD INSTALL --build --library=SGSeq.buildbin-libdir SGSeq_1.36.0.tar.gz StartedAt: 2024-04-16 07:41:18 -0400 (Tue, 16 Apr 2024) EndedAt: 2024-04-16 07:42:28 -0400 (Tue, 16 Apr 2024) EllapsedTime: 69.6 seconds RetCode: 0 Status: OK PackageFile: SGSeq_1.36.0.zip PackageFileSize: 1.679 MiB