Package: SIAMCAT Version: 2.6.0 Command: /Library/Frameworks/R.framework/Resources/bin/R CMD check --install=check:SIAMCAT.install-out.txt --library=/Library/Frameworks/R.framework/Resources/library --no-vignettes --timings SIAMCAT_2.6.0.tar.gz StartedAt: 2024-03-03 23:28:17 -0500 (Sun, 03 Mar 2024) EndedAt: 2024-03-03 23:33:38 -0500 (Sun, 03 Mar 2024) EllapsedTime: 321.1 seconds RetCode: 0 Status: OK CheckDir: SIAMCAT.Rcheck Warnings: 0