Package: SIAMCAT
Version: 2.6.0
Command: rm -rf SIAMCAT.buildbin-libdir && mkdir SIAMCAT.buildbin-libdir && F:\biocbuild\bbs-3.18-bioc\R\bin\R.exe CMD INSTALL --build --library=SIAMCAT.buildbin-libdir SIAMCAT_2.6.0.tar.gz
StartedAt: 2024-04-16 07:41:37 -0400 (Tue, 16 Apr 2024)
EndedAt: 2024-04-16 07:42:30 -0400 (Tue, 16 Apr 2024)
EllapsedTime: 53.1 seconds
RetCode: 0
Status: OK
PackageFile: SIAMCAT_2.6.0.zip
PackageFileSize: 10.36 <A href="http://en.wikipedia.org/wiki/MiB" target="_blank">MiB</A>