Package: SICtools Version: 1.32.0 Command: /home/biocbuild/R/R-4.3.1/bin/R CMD build --keep-empty-dirs --no-resave-data SICtools StartedAt: 2023-11-02 06:14:52 -0000 (Thu, 02 Nov 2023) EndedAt: 2023-11-02 06:15:50 -0000 (Thu, 02 Nov 2023) EllapsedTime: 58.1 seconds RetCode: 0 Status: OK PackageFile: SICtools_1.32.0.tar.gz PackageFileSize: 1.528 MiB