Package: SICtools Version: 1.32.0 Command: rm -rf SICtools.buildbin-libdir && mkdir SICtools.buildbin-libdir && /Users/biocbuild/BBS/utils/build-universal.sh SICtools_1.32.0.tar.gz /Library/Frameworks/R.framework/Resources/bin/R SICtools.buildbin-libdir StartedAt: 2024-03-04 01:04:46 -0500 (Mon, 04 Mar 2024) EndedAt: 2024-03-04 01:05:40 -0500 (Mon, 04 Mar 2024) EllapsedTime: 53.6 seconds RetCode: 0 Status: OK PackageFile: SICtools_1.32.0.tgz PackageFileSize: 1.329 MiB