Package: SICtools Version: 1.32.0 Command: /Library/Frameworks/R.framework/Resources/bin/R CMD build --keep-empty-dirs --no-resave-data SICtools StartedAt: 2024-03-03 18:19:54 -0500 (Sun, 03 Mar 2024) EndedAt: 2024-03-03 18:20:55 -0500 (Sun, 03 Mar 2024) EllapsedTime: 60.6 seconds RetCode: 0 Status: OK PackageFile: SICtools_1.32.0.tar.gz PackageFileSize: 1.531 MiB