Package: SICtools Version: 1.32.0 Command: /Library/Frameworks/R.framework/Resources/bin/R CMD check --install=check:SICtools.install-out.txt --library=/Library/Frameworks/R.framework/Resources/library --no-vignettes --timings SICtools_1.32.0.tar.gz StartedAt: 2024-03-03 23:29:04 -0500 (Sun, 03 Mar 2024) EndedAt: 2024-03-03 23:31:07 -0500 (Sun, 03 Mar 2024) EllapsedTime: 122.6 seconds RetCode: 0 Status: WARNINGS CheckDir: SICtools.Rcheck Warnings: 2