Package: SICtools Version: 1.32.0 Command: /Library/Frameworks/R.framework/Resources/bin/R CMD INSTALL SICtools StartedAt: 2024-04-15 15:30:31 -0400 (Mon, 15 Apr 2024) EndedAt: 2024-04-15 15:31:41 -0400 (Mon, 15 Apr 2024) EllapsedTime: 69.8 seconds RetCode: 0 Status: OK