Package: SIM Version: 1.72.0 Command: /Library/Frameworks/R.framework/Resources/bin/R CMD check --install=check:SIM.install-out.txt --library=/Library/Frameworks/R.framework/Resources/library --no-vignettes --timings SIM_1.72.0.tar.gz StartedAt: 2024-03-03 23:30:47 -0500 (Sun, 03 Mar 2024) EndedAt: 2024-03-03 23:33:44 -0500 (Sun, 03 Mar 2024) EllapsedTime: 177.1 seconds RetCode: 0 Status: WARNINGS CheckDir: SIM.Rcheck Warnings: 1