Package: SIM Version: 1.72.0 Command: /Library/Frameworks/R.framework/Resources/bin/R CMD check --install=check:SIM.install-out.txt --library=/Library/Frameworks/R.framework/Resources/library --no-vignettes --timings SIM_1.72.0.tar.gz StartedAt: 2024-04-16 08:58:41 -0400 (Tue, 16 Apr 2024) EndedAt: 2024-04-16 09:03:54 -0400 (Tue, 16 Apr 2024) EllapsedTime: 313.0 seconds RetCode: 0 Status: WARNINGS CheckDir: SIM.Rcheck Warnings: 1