Package: SIM Version: 1.72.0 Command: F:\biocbuild\bbs-3.18-bioc\R\bin\R.exe CMD check --no-multiarch --install=check:SIM.install-out.txt --library=F:\biocbuild\bbs-3.18-bioc\R\library --no-vignettes --timings SIM_1.72.0.tar.gz StartedAt: 2024-04-16 05:09:43 -0400 (Tue, 16 Apr 2024) EndedAt: 2024-04-16 05:12:30 -0400 (Tue, 16 Apr 2024) EllapsedTime: 167.2 seconds RetCode: 0 Status: WARNINGS CheckDir: SIM.Rcheck Warnings: 1