Package: SIMAT Version: 1.34.0 Command: rm -rf SIMAT.buildbin-libdir && mkdir SIMAT.buildbin-libdir && /Users/biocbuild/BBS/utils/build-universal.sh SIMAT_1.34.0.tar.gz /Library/Frameworks/R.framework/Resources/bin/R SIMAT.buildbin-libdir StartedAt: 2024-03-04 01:05:11 -0500 (Mon, 04 Mar 2024) EndedAt: 2024-03-04 01:05:25 -0500 (Mon, 04 Mar 2024) EllapsedTime: 13.6 seconds RetCode: 0 Status: OK PackageFile: SIMAT_1.34.0.tgz PackageFileSize: 1.141 MiB