Package: SIMAT Version: 1.34.0 Command: /Library/Frameworks/R.framework/Resources/bin/R CMD check --install=check:SIMAT.install-out.txt --library=/Library/Frameworks/R.framework/Resources/library --no-vignettes --timings SIMAT_1.34.0.tar.gz StartedAt: 2024-04-16 08:59:07 -0400 (Tue, 16 Apr 2024) EndedAt: 2024-04-16 09:01:23 -0400 (Tue, 16 Apr 2024) EllapsedTime: 135.5 seconds RetCode: 0 Status: OK CheckDir: SIMAT.Rcheck Warnings: 0