Package: SIMAT Version: 1.34.0 Command: rm -rf SIMAT.buildbin-libdir && mkdir SIMAT.buildbin-libdir && F:\biocbuild\bbs-3.18-bioc\R\bin\R.exe CMD INSTALL --build --library=SIMAT.buildbin-libdir SIMAT_1.34.0.tar.gz StartedAt: 2024-04-16 07:42:01 -0400 (Tue, 16 Apr 2024) EndedAt: 2024-04-16 07:42:14 -0400 (Tue, 16 Apr 2024) EllapsedTime: 12.9 seconds RetCode: 0 Status: OK PackageFile: SIMAT_1.34.0.zip PackageFileSize: 1.072 MiB